BEGIN:VCALENDAR
VERSION:2.0
PRODID:-//23rd Veteran - ECPv6.15.20//NONSGML v1.0//EN
CALSCALE:GREGORIAN
METHOD:PUBLISH
X-ORIGINAL-URL:https://23rdveteran.org
X-WR-CALDESC:Events for 23rd Veteran
REFRESH-INTERVAL;VALUE=DURATION:PT1H
X-Robots-Tag:noindex
X-PUBLISHED-TTL:PT1H
BEGIN:VTIMEZONE
TZID:America/Chicago
BEGIN:DAYLIGHT
TZOFFSETFROM:-0600
TZOFFSETTO:-0500
TZNAME:CDT
DTSTART:20250309T080000
END:DAYLIGHT
BEGIN:STANDARD
TZOFFSETFROM:-0500
TZOFFSETTO:-0600
TZNAME:CST
DTSTART:20251102T070000
END:STANDARD
BEGIN:DAYLIGHT
TZOFFSETFROM:-0600
TZOFFSETTO:-0500
TZNAME:CDT
DTSTART:20260308T080000
END:DAYLIGHT
BEGIN:STANDARD
TZOFFSETFROM:-0500
TZOFFSETTO:-0600
TZNAME:CST
DTSTART:20261101T070000
END:STANDARD
BEGIN:DAYLIGHT
TZOFFSETFROM:-0600
TZOFFSETTO:-0500
TZNAME:CDT
DTSTART:20270314T080000
END:DAYLIGHT
BEGIN:STANDARD
TZOFFSETFROM:-0500
TZOFFSETTO:-0600
TZNAME:CST
DTSTART:20271107T070000
END:STANDARD
END:VTIMEZONE
BEGIN:VEVENT
DTSTART;TZID=America/Chicago:20260312T183000
DTEND;TZID=America/Chicago:20260312T183000
DTSTAMP:20260416T070536
CREATED:20260112T190243Z
LAST-MODIFIED:20260112T190428Z
UID:5830-1773340200-1773340200@23rdveteran.org
SUMMARY:Bong Speaker Series - A Homefront Childhood in WWII
DESCRIPTION:Join us at the Bong Center for our Speaker Series showcasing Peggy Trojan. Peggy published her first poem at the age of 77. She is the author of several poetry collections\, including the self-published All That Matters: Collected Poems 2010-2018 and Essence (Portage Press\, 2015). \nPeggy’s book A Homefront Childhood in WWII is a collection of poems that create a narrative about story of a child in small Midwestern town during World WWII. We’re very excited to host her and hope to see you here!
URL:https://23rdveteran.org/event/bong-speaker-series-2/
LOCATION:Richard I. Bong Veterans Historical Center\, 305 E 2nd St\, Superior\, WI
CATEGORIES:Community Events
END:VEVENT
END:VCALENDAR