BEGIN:VCALENDAR
VERSION:2.0
PRODID:-//23rd Veteran - ECPv6.15.20//NONSGML v1.0//EN
CALSCALE:GREGORIAN
METHOD:PUBLISH
X-WR-CALNAME:23rd Veteran
X-ORIGINAL-URL:https://23rdveteran.org
X-WR-CALDESC:Events for 23rd Veteran
REFRESH-INTERVAL;VALUE=DURATION:PT1H
X-Robots-Tag:noindex
X-PUBLISHED-TTL:PT1H
BEGIN:VTIMEZONE
TZID:America/Chicago
BEGIN:DAYLIGHT
TZOFFSETFROM:-0600
TZOFFSETTO:-0500
TZNAME:CDT
DTSTART:20250309T080000
END:DAYLIGHT
BEGIN:STANDARD
TZOFFSETFROM:-0500
TZOFFSETTO:-0600
TZNAME:CST
DTSTART:20251102T070000
END:STANDARD
BEGIN:DAYLIGHT
TZOFFSETFROM:-0600
TZOFFSETTO:-0500
TZNAME:CDT
DTSTART:20260308T080000
END:DAYLIGHT
BEGIN:STANDARD
TZOFFSETFROM:-0500
TZOFFSETTO:-0600
TZNAME:CST
DTSTART:20261101T070000
END:STANDARD
BEGIN:DAYLIGHT
TZOFFSETFROM:-0600
TZOFFSETTO:-0500
TZNAME:CDT
DTSTART:20270314T080000
END:DAYLIGHT
BEGIN:STANDARD
TZOFFSETFROM:-0500
TZOFFSETTO:-0600
TZNAME:CST
DTSTART:20271107T070000
END:STANDARD
END:VTIMEZONE
BEGIN:VEVENT
DTSTART;TZID=America/Chicago:20260530T103000
DTEND;TZID=America/Chicago:20260530T160000
DTSTAMP:20260420T023721
CREATED:20251009T183359Z
LAST-MODIFIED:20260304T201324Z
UID:5747-1780137000-1780156800@23rdveteran.org
SUMMARY:2026 Ruck Life Duluth
DESCRIPTION:Walk with Purpose. Ruck with Honor. Be the Hero.\nFOOD • AWARDS • LIVE ENTERTAINMENT • LOCAL VENDORS • FUN FOR THE FAMILY • DOG-FRIENDLY \nWhy We Ruck\nThis powerful community fundraiser\, brings mental health programming to veterans & first responders\, helping them to heal from trauma after public service. Your efforts will help provide a 14-week program to your neighbors in Duluth/Superior\, Twin Cities\, and the Iron Range. \nAll Are Welcome\nThe course is a 2-mile loop. You can hike one lap or earn your ‘All The Way’ patch by completing five laps (10 miles total). Participants are invited to fill their rucks with donations for local veteran service organizations. \n 
URL:https://23rdveteran.org/event/2026-ruck-life-duluth/
LOCATION:Mont du Lac Resort\, 3125 S Mont Du Lac Rd\,\, Superior\, WI\, 54880
CATEGORIES:23rd Veteran Events
END:VEVENT
BEGIN:VEVENT
DTSTART;TZID=America/Chicago:20260912T110000
DTEND;TZID=America/Chicago:20260912T160000
DTSTAMP:20260420T023721
CREATED:20251009T210046Z
LAST-MODIFIED:20251018T211010Z
UID:5751-1789210800-1789228800@23rdveteran.org
SUMMARY:2026 Ruck Life Twin Cities
DESCRIPTION:Walk with Purpose. Ruck with Honor. Be the Hero.\nFOOD • AWARDS • LIVE ENTERTAINMENT • LOCAL VENDORS • FUN FOR THE FAMILY • DOG-FRIENDLY \nWhy We Ruck\nThis powerful community fundraiser\, brings mental health programming to veterans & first responders\, helping them to heal from trauma after public service. Your efforts will help provide a 14-week program to your neighbors in Duluth/Superior\, Twin Cities\, and the Iron Range. \nAll Are Welcome\nThe course is a 2-mile loop. You can hike one lap or earn your ‘All The Way’ patch by completing five laps (10 miles total). Participants are invited to fill their rucks with donations for local veteran service organizations. \n 
URL:https://23rdveteran.org/event/2026-ruck-life-twin-cities/
LOCATION:ANOKA HIGH SCHOOL\, 3939 N 7th Ave\, Anoka\, MN\, 55303\, United States
CATEGORIES:23rd Veteran Events
END:VEVENT
END:VCALENDAR