BEGIN:VCALENDAR
VERSION:2.0
PRODID:-//23rd Veteran - ECPv6.15.20//NONSGML v1.0//EN
CALSCALE:GREGORIAN
METHOD:PUBLISH
X-ORIGINAL-URL:https://23rdveteran.org
X-WR-CALDESC:Events for 23rd Veteran
REFRESH-INTERVAL;VALUE=DURATION:PT1H
X-Robots-Tag:noindex
X-PUBLISHED-TTL:PT1H
BEGIN:VTIMEZONE
TZID:America/Chicago
BEGIN:DAYLIGHT
TZOFFSETFROM:-0600
TZOFFSETTO:-0500
TZNAME:CDT
DTSTART:20240310T080000
END:DAYLIGHT
BEGIN:STANDARD
TZOFFSETFROM:-0500
TZOFFSETTO:-0600
TZNAME:CST
DTSTART:20241103T070000
END:STANDARD
BEGIN:DAYLIGHT
TZOFFSETFROM:-0600
TZOFFSETTO:-0500
TZNAME:CDT
DTSTART:20250309T080000
END:DAYLIGHT
BEGIN:STANDARD
TZOFFSETFROM:-0500
TZOFFSETTO:-0600
TZNAME:CST
DTSTART:20251102T070000
END:STANDARD
BEGIN:DAYLIGHT
TZOFFSETFROM:-0600
TZOFFSETTO:-0500
TZNAME:CDT
DTSTART:20260308T080000
END:DAYLIGHT
BEGIN:STANDARD
TZOFFSETFROM:-0500
TZOFFSETTO:-0600
TZNAME:CST
DTSTART:20261101T070000
END:STANDARD
END:VTIMEZONE
BEGIN:VEVENT
DTSTART;TZID=America/Chicago:20251009T183000
DTEND;TZID=America/Chicago:20251009T193000
DTSTAMP:20260416T070602
CREATED:20251009T181355Z
LAST-MODIFIED:20251009T181437Z
UID:5742-1760034600-1760038200@23rdveteran.org
SUMMARY:250 Years of Honor: A Marine Corps Story
DESCRIPTION:The Richard I. Bong Veterans Historical Center welcomes Lt Col (Ret) Donna Bergstrom to speak on Thursday\, October 9th\, from 6:30-7:30 pm. \nProgram Highlights: “Happy Birthday United States Marine Corps! On November 10th\, the Marine Corps turns 250 years old. From Philadelphia\, the birthplace of the Marine Corps\, to every ‘clime and place where we could take a gun\,’ the Marines have an illustrious history of service to our Nation. Highlights and personal anecdotes will be presented in this fast-paced journey through 250 years of living up to the Marine Corps motto of\, “Semper Fidelis” or Always Faithful. \nQuestions: fiandt@bongcenter.org \n2025 Public Speaker Events Poster 5
URL:https://23rdveteran.org/event/250-years-of-honor-a-marine-corps-story/
LOCATION:Richard I. Bong Veterans Historical Center\, 305 E 2nd St\, Superior\, WI
CATEGORIES:Community Events
END:VEVENT
END:VCALENDAR